BEGIN:VCALENDAR
VERSION:2.0
PRODID:icalendar-ruby
CALSCALE:GREGORIAN
METHOD:PUBLISH
BEGIN:VEVENT
DTSTAMP:20260421T132952Z
UID:39-127542@forkedriverbaptist.church
DTSTART;VALUE=DATE:20261205
DTEND;VALUE=DATE:20261205
CLASS:PUBLIC
CREATED:20260420T145419
DESCRIPTION:
LAST-MODIFIED:20260420T145419
LOCATION:Lancaster\, PA
SUMMARY:Sight & Sound Bus Trip
URL;VALUE=URI:https://www.forkedriverbaptist.church/events/sight-sound-bus-
 trip/2026-12-05
ATTACH;FILENAME=Sight--Sound-Trip-for-Email.jpg;FMTTYPE=image/jpeg:https://
 dq5pwpg1q8ru0.cloudfront.net/2026/04/20/18/53/23/88c0f99a-35c4-47bb-8ec1-a
 f270afca430/Sight--Sound-Trip-for-Email.jpg
END:VEVENT
END:VCALENDAR
